BEGIN:VCALENDAR
VERSION:2.0
PRODID:-//Can Serrat - ECPv4.9.5//NONSGML v1.0//EN
CALSCALE:GREGORIAN
METHOD:PUBLISH
X-WR-CALNAME:Can Serrat
X-ORIGINAL-URL:http://canserrat.org
X-WR-CALDESC:Eventos para Can Serrat
BEGIN:VTIMEZONE
TZID:"UTC"
BEGIN:STANDARD
TZOFFSETFROM:+0000
TZOFFSETTO:+0000
TZNAME:UTC
DTSTART:20160101T000000
END:STANDARD
END:VTIMEZONE
BEGIN:VEVENT
DTSTART;TZID="UTC":20161015T120000
DTEND;TZID="UTC":20161015T130000
DTSTAMP:20260423T070613
CREATED:20160923T133450Z
LAST-MODIFIED:20170529T153742Z
UID:813-1476532800-1476536400@canserrat.org
SUMMARY:Presentation: Enric Farrés (Artist)
DESCRIPTION:Presentation and talk of Enric Farrés about his recent work.\nMore information: http://www.enricfarresduran.com/ \n  \n
URL:http://canserrat.org/event/presentation-enric-farres-artist
LOCATION:Can Serrat\, Masia can serrat s/n \, Barcelona\, 08294 
CATEGORIES:Presentation
ATTACH;FMTTYPE=image/jpeg:http://canserrat.org/wp-content/uploads/2016/09/viatgefrustrat2.jpg
END:VEVENT
END:VCALENDAR