BEGIN:VCALENDAR
VERSION:2.0
PRODID:-//Can Serrat - ECPv4.9.5//NONSGML v1.0//EN
CALSCALE:GREGORIAN
METHOD:PUBLISH
X-WR-CALNAME:Can Serrat
X-ORIGINAL-URL:http://canserrat.org
X-WR-CALDESC:Eventos para Can Serrat
BEGIN:VTIMEZONE
TZID:"UTC"
BEGIN:STANDARD
TZOFFSETFROM:+0000
TZOFFSETTO:+0000
TZNAME:UTC
DTSTART:20160101T000000
END:STANDARD
END:VTIMEZONE
BEGIN:VEVENT
DTSTART;TZID="UTC":20161108T000000
DTEND;TZID="UTC":20161108T130000
DTSTAMP:20260423T053551
CREATED:20160923T133917Z
LAST-MODIFIED:20170529T153601Z
UID:815-1478563200-1478610000@canserrat.org
SUMMARY:Presentation: Edgar Díaz and Palma Lombardo (Artists)
DESCRIPTION:Presentation and screening of Edgar Diaz and Palma Lombardo’s last shortfilm “Tot ha de seguir el seu curs”. \n
URL:http://canserrat.org/event/presentation-edgar-diaz-and-palma-lombardo-artists
CATEGORIES:Presentation
ATTACH;FMTTYPE=image/jpeg:http://canserrat.org/wp-content/uploads/2016/09/14439017_882425768557489_1016813091_o-1.jpg
END:VEVENT
END:VCALENDAR