BEGIN:VCALENDAR
VERSION:2.0
PRODID:-//Can Serrat - ECPv4.9.5//NONSGML v1.0//EN
CALSCALE:GREGORIAN
METHOD:PUBLISH
X-WR-CALNAME:Can Serrat
X-ORIGINAL-URL:http://canserrat.org
X-WR-CALDESC:Eventos para Can Serrat
BEGIN:VTIMEZONE
TZID:"UTC"
BEGIN:STANDARD
TZOFFSETFROM:+0000
TZOFFSETTO:+0000
TZNAME:UTC
DTSTART:20170101T000000
END:STANDARD
END:VTIMEZONE
BEGIN:VEVENT
DTSTART;TZID="UTC":20170724T000000
DTEND;TZID="UTC":20170724T130000
DTSTAMP:20260423T020426
CREATED:20170630T122254Z
LAST-MODIFIED:20170630T122423Z
UID:1370-1500854400-1500901200@canserrat.org
SUMMARY:Presentation: Artist Rafael Cañete
DESCRIPTION:The local artist Rafael Cañete will present his current work and talk about his artistic experience. \nRafael Cañete Web \n
URL:http://canserrat.org/event/presentation-artist-rafael-canete
CATEGORIES:Presentation
ATTACH;FMTTYPE=image/jpeg:http://canserrat.org/wp-content/uploads/2017/06/MG_5968_1000.jpg
END:VEVENT
END:VCALENDAR