BEGIN:VCALENDAR
VERSION:2.0
PRODID:-//Can Serrat - ECPv4.9.5//NONSGML v1.0//EN
CALSCALE:GREGORIAN
METHOD:PUBLISH
X-WR-CALNAME:Can Serrat
X-ORIGINAL-URL:http://canserrat.org
X-WR-CALDESC:Eventos para Can Serrat
BEGIN:VTIMEZONE
TZID:"UTC"
BEGIN:STANDARD
TZOFFSETFROM:+0000
TZOFFSETTO:+0000
TZNAME:UTC
DTSTART:20160101T000000
END:STANDARD
END:VTIMEZONE
BEGIN:VEVENT
DTSTART;TZID="UTC":20160528T120000
DTEND;TZID="UTC":20160528T170000
DTSTAMP:20260423T111302
CREATED:20160428T163633Z
LAST-MODIFIED:20160428T163725Z
UID:499-1464436800-1464454800@canserrat.org
SUMMARY:Open Studio (Public)
DESCRIPTION:Next Saturday 28th of May we are opening Can Serrat art residency’s workshop gates so you will know what the resident artists are working on. We are going to show work-in-progress from Sarah Alice Moran\, Samreen Sultan\, Mariliin Vassenin\, Ana Maria Micu and Sara Malinarich (artists and writers that are staying at Can Serrat at the moment); and also the results of the stay of Andrea García Vásquez\, Ester Eva Damen\, Geri Doran and Suzanne Bottelli (artists and writers that were here during April). \n
URL:http://canserrat.org/event/open-studio-public
LOCATION:Can Serrat\, Masia can serrat s/n \, Barcelona\, 08294 
CATEGORIES:Open Studio
ATTACH;FMTTYPE=image/jpeg:http://canserrat.org/wp-content/uploads/2016/04/IMG_20160318_205629.jpg
END:VEVENT
END:VCALENDAR