BEGIN:VCALENDAR
VERSION:2.0
PRODID:-//Can Serrat - ECPv4.9.5//NONSGML v1.0//EN
CALSCALE:GREGORIAN
METHOD:PUBLISH
X-WR-CALNAME:Can Serrat
X-ORIGINAL-URL:http://canserrat.org
X-WR-CALDESC:Eventos para Can Serrat
BEGIN:VTIMEZONE
TZID:"UTC"
BEGIN:STANDARD
TZOFFSETFROM:+0000
TZOFFSETTO:+0000
TZNAME:UTC
DTSTART:20160101T000000
END:STANDARD
END:VTIMEZONE
BEGIN:VEVENT
DTSTART;TZID="UTC":20160422T193000
DTEND;TZID="UTC":20160422T203000
DTSTAMP:20260423T205452
CREATED:20160330T110017Z
LAST-MODIFIED:20160415T113953Z
UID:178-1461353400-1461357000@canserrat.org
SUMMARY:Literary Lecture: Suzanne Bottelli and Geri Doran (Public)
DESCRIPTION:Next 22nd of April at 19:30h at the Verge de Montserrat Library (El Bruc) the resident writers Suzanne Bottelli and Geri Doran will be talking about the projects they are working on during their residence. There is no entrance fee and the lecture will be translated in Spanish and Catalan. \n  \n
URL:http://canserrat.org/event/geri-doran-andrew-gepp-suzanne-bottelli
LOCATION:Biblioteca
ATTACH;FMTTYPE=image/jpeg:http://canserrat.org/wp-content/uploads/2016/03/lecture.jpg
END:VEVENT
END:VCALENDAR