BEGIN:VCALENDAR
VERSION:2.0
PRODID:-//Can Serrat - ECPv4.9.5//NONSGML v1.0//EN
CALSCALE:GREGORIAN
METHOD:PUBLISH
X-WR-CALNAME:Can Serrat
X-ORIGINAL-URL:http://canserrat.org
X-WR-CALDESC:Eventos para Can Serrat
BEGIN:VTIMEZONE
TZID:"UTC"
BEGIN:STANDARD
TZOFFSETFROM:+0000
TZOFFSETTO:+0000
TZNAME:UTC
DTSTART:20180101T000000
END:STANDARD
END:VTIMEZONE
BEGIN:VEVENT
DTSTART;TZID="UTC":20180112T113000
DTEND;TZID="UTC":20180112T133000
DTSTAMP:20260422T182504
CREATED:20171219T123659Z
LAST-MODIFIED:20171219T164733Z
UID:1768-1515756600-1515763800@canserrat.org
SUMMARY:MEETING POINT I
DESCRIPTION:The artists and writers recently arrived at Can Serrat\, just at the beginning of their stay\, will individually present their interests\, recent work\, and objectives during their residency. This way\, we will have a first contact with the projects of each one of the residents. After the presentation\, we will eat together in Can Xicó.\nIn January the residents who present are Jerry Wellman\, Natasha Cox\, Maria Emilia Bianchi\, Javier Zamora\, Alison Nguyen\, Sarah Treharne\, Nicole Baute\, George Baldwin\, Ed Eva\, Eben Haines\, Potira Maia\, Eeva-Liisa Puhakka\, Eric Lemmon\, Maya Perry\, Maria Kim and Nicole Baute. \n
URL:http://canserrat.org/event/catala-meeting-point-i
LOCATION:Can Serrat\, Masia can serrat s/n \, Barcelona\, 08294 
CATEGORIES:Presentation
ATTACH;FMTTYPE=image/png:http://canserrat.org/wp-content/uploads/2017/09/Captura-de-pantalla-2017-09-17-a-las-13.18.29.png
END:VEVENT
END:VCALENDAR