BEGIN:VCALENDAR
VERSION:2.0
PRODID:-//Can Serrat - ECPv4.9.5//NONSGML v1.0//EN
CALSCALE:GREGORIAN
METHOD:PUBLISH
X-WR-CALNAME:Can Serrat
X-ORIGINAL-URL:http://canserrat.org/es
X-WR-CALDESC:Eventos para Can Serrat
BEGIN:VTIMEZONE
TZID:"UTC"
BEGIN:STANDARD
TZOFFSETFROM:+0000
TZOFFSETTO:+0000
TZNAME:UTC
DTSTART:20170101T000000
END:STANDARD
END:VTIMEZONE
BEGIN:VEVENT
DTSTART;TZID="UTC":20170726T190000
DTEND;TZID="UTC":20170726T200000
DTSTAMP:20260423T010239
CREATED:20170630T120849Z
LAST-MODIFIED:20170712T145055Z
UID:1369-1501095600-1501099200@canserrat.org
SUMMARY:Lectura Pública por los/las autores/as residentes de Can Serrat
DESCRIPTION:Can Serrat\, con la intención de conectar con su entorno mas cercano\, colabora regularmente con la biblioteca del Bruc. Se propone a los habitantes del pueblo venir a conocer\, escuchar y debatir durante un diálogo abierto entre literatura extranjera y literatura catalana. Se organiza\, en el espacio público de la biblioteca\, una jornada en la que los escritores invitados en residencia presentan su trabajo reciente o en curso en forma de conversación gracias a tres colaboradores locales y grandes amantes de la literatura catalana: Carla Jorba\, Carles Estrada y Ramon Jorba.\n\nUn primer encuentro\, anterior a la presentación pública\, tiene lugar en Can Serrat entre los colaboradores y los escritores invitados. Este momento genera un primer intercambio a partir del cual Carla\, Carles y Ramon buscan enlaces entre los proyectos de los escritores residentes y referentes de la literatura catalana.\n\n  \nLas escritoras residentes que leerán su obra son; \nBarbara Victoria Niveyro \nMoira McCavena \nNgozi Oparah \nEna Grozdanic \n\n\nEsta actividad sigue desde 2016 gracias a la generosidad y curiosidad de Carla\, Carles\, Ramon y Roser Castellet (responsable de la Biblioteca Municipal del Bruc).\n\n  \n
URL:http://canserrat.org/es/event/public-reading-by-residents-of-can-serrat
LOCATION:Biblioteca
CATEGORIES:Lecturas,Lectura
END:VEVENT
END:VCALENDAR