BEGIN:VCALENDAR
VERSION:2.0
PRODID:-//Can Serrat - ECPv4.9.5//NONSGML v1.0//EN
CALSCALE:GREGORIAN
METHOD:PUBLISH
X-WR-CALNAME:Can Serrat
X-ORIGINAL-URL:http://canserrat.org/es
X-WR-CALDESC:Eventos para Can Serrat
BEGIN:VTIMEZONE
TZID:"UTC"
BEGIN:STANDARD
TZOFFSETFROM:+0000
TZOFFSETTO:+0000
TZNAME:UTC
DTSTART:20160101T000000
END:STANDARD
END:VTIMEZONE
BEGIN:VEVENT
DTSTART;TZID="UTC":20160514T000000
DTEND;TZID="UTC":20160514T140000
DTSTAMP:20260423T133023
CREATED:20160401T150658Z
LAST-MODIFIED:20160428T200918Z
UID:278-1463184000-1463234400@canserrat.org
SUMMARY:Presentación: Anna Dot (Publico)
DESCRIPTION:Presentación de la artista y comisaria independiente Anna Dot. Más información sobre su trabajo en www.annadot.net \n
URL:http://canserrat.org/es/event/presentation-anna-dot
LOCATION:Can Serrat\, Masia can serrat s/n \, Barcelona\, 08294 
CATEGORIES:Presentation
ATTACH;FMTTYPE=image/jpeg:http://canserrat.org/wp-content/uploads/2016/04/annadot.jpg
END:VEVENT
END:VCALENDAR