BEGIN:VCALENDAR
VERSION:2.0
PRODID:-//Can Serrat - ECPv4.9.5//NONSGML v1.0//EN
CALSCALE:GREGORIAN
METHOD:PUBLISH
X-WR-CALNAME:Can Serrat
X-ORIGINAL-URL:http://canserrat.org/es
X-WR-CALDESC:Eventos para Can Serrat
BEGIN:VTIMEZONE
TZID:"UTC"
BEGIN:STANDARD
TZOFFSETFROM:+0000
TZOFFSETTO:+0000
TZNAME:UTC
DTSTART:20160101T000000
END:STANDARD
END:VTIMEZONE
BEGIN:VEVENT
DTSTART;TZID="UTC":20160528T120000
DTEND;TZID="UTC":20160528T170000
DTSTAMP:20260423T104659
CREATED:20160428T163633Z
LAST-MODIFIED:20160428T163725Z
UID:499-1464436800-1464454800@canserrat.org
SUMMARY:Open Studio (Talleres Abiertos) (Público)
DESCRIPTION:El próximo sábado 28 de Mayo abrimos las puertas de los talleres de la residencia de arte Can Serrat para que conozcáis en qué están trabajando los artistas y escritores residentes. Se mostraran proyectos en proceso de Sarah Alice Moran\, Samreen Sultan\, Mariliin Vassenin\, Ana Maria Micu y Sara Malinarich (artistas y escritoras que residen aquí actualmente); así como los resultados de la estancia de Andrea García Vásquez\, Ester Eva Damen\, Geri Doran y Suzanne Bottelli (artistas y escritoras que estuvieron de residencia el mes de Abril). \n
URL:http://canserrat.org/es/event/open-studio-public
LOCATION:Can Serrat\, Masia can serrat s/n \, Barcelona\, 08294 
CATEGORIES:Open Studio
ATTACH;FMTTYPE=image/jpeg:http://canserrat.org/wp-content/uploads/2016/04/IMG_20160318_205629.jpg
END:VEVENT
END:VCALENDAR