BEGIN:VCALENDAR
VERSION:2.0
PRODID:-//Can Serrat - ECPv4.9.5//NONSGML v1.0//EN
CALSCALE:GREGORIAN
METHOD:PUBLISH
X-WR-CALNAME:Can Serrat
X-ORIGINAL-URL:http://canserrat.org/es
X-WR-CALDESC:Eventos para Can Serrat
BEGIN:VTIMEZONE
TZID:"UTC"
BEGIN:STANDARD
TZOFFSETFROM:+0000
TZOFFSETTO:+0000
TZNAME:UTC
DTSTART:20170101T000000
END:STANDARD
END:VTIMEZONE
BEGIN:VEVENT
DTSTART;TZID="UTC":20170920T000000
DTEND;TZID="UTC":20170920T130000
DTSTAMP:20260422T213702
CREATED:20170912T155307Z
LAST-MODIFIED:20171020T115234Z
UID:1554-1505865600-1505912400@canserrat.org
SUMMARY:Presentación de Artista Local: Internet 2 - Carlos Carbonell
DESCRIPTION:El próximo miércoles 20 de septiembre a las 12 Can Serrat invita el artista y músico Carlos Carbonell para hablarnos de su proyecto ‘Internet2’. (http://www.htmlfiesta.com). Nos explicará su trayectoria y en base a la cronología conoceremos los conceptos clave de las que le han motivado a acercarse a la creación artística o que lo han alejado de la misma. Después nos presentará sus proyectos más recientes\, todos ellos sistemas interactivos que funcionan como performances. Acabaremos con una sesión de karaoke interactivo con su última creación. \n
URL:http://canserrat.org/es/event/local-artist-presentation-internet-2-carlos-carbonell
LOCATION:Can Serrat\, Masia can serrat s/n \, Barcelona\, 08294 
CATEGORIES:Presentation
END:VEVENT
END:VCALENDAR