BEGIN:VCALENDAR
VERSION:2.0
PRODID:-//Can Serrat - ECPv4.9.5//NONSGML v1.0//EN
CALSCALE:GREGORIAN
METHOD:PUBLISH
X-WR-CALNAME:Can Serrat
X-ORIGINAL-URL:http://canserrat.org/es
X-WR-CALDESC:Eventos para Can Serrat
BEGIN:VTIMEZONE
TZID:"UTC"
BEGIN:STANDARD
TZOFFSETFROM:+0000
TZOFFSETTO:+0000
TZNAME:UTC
DTSTART:20160101T000000
END:STANDARD
END:VTIMEZONE
BEGIN:VEVENT
DTSTART;TZID="UTC":20160422T193000
DTEND;TZID="UTC":20160422T203000
DTSTAMP:20260423T184417
CREATED:20160330T110017Z
LAST-MODIFIED:20160415T113953Z
UID:178-1461353400-1461357000@canserrat.org
SUMMARY:Lectura Literaria: Suzanne Bottelli y Geri Doran (Público)
DESCRIPTION:El próximo 22 de Abril a las 19:30h en la Biblioteca Municipal Verge de Montserrat (El Bruc) los escritores residentes Suzanne Bottelli y Geri Doran realizaran una lectura y presentación de los proyectos en los que están trabajando últimamente. La entrada es libre y las lecturas se harán en Inglés con traducción simultánea al Castellano y al Catalán. \n
URL:http://canserrat.org/es/event/geri-doran-andrew-gepp-suzanne-bottelli
LOCATION:Biblioteca
ATTACH;FMTTYPE=image/jpeg:http://canserrat.org/wp-content/uploads/2016/03/lecture.jpg
END:VEVENT
END:VCALENDAR