BEGIN:VCALENDAR
VERSION:2.0
PRODID:-//Can Serrat - ECPv4.9.5//NONSGML v1.0//EN
CALSCALE:GREGORIAN
METHOD:PUBLISH
X-WR-CALNAME:Can Serrat
X-ORIGINAL-URL:http://canserrat.org/es
X-WR-CALDESC:Eventos para Can Serrat
BEGIN:VTIMEZONE
TZID:"UTC"
BEGIN:STANDARD
TZOFFSETFROM:+0000
TZOFFSETTO:+0000
TZNAME:UTC
DTSTART:20170101T000000
END:STANDARD
END:VTIMEZONE
BEGIN:VEVENT
DTSTART;TZID="UTC":20170823T130000
DTEND;TZID="UTC":20170823T140000
DTSTAMP:20260422T224252
CREATED:20170825T160541Z
LAST-MODIFIED:20170825T160713Z
UID:1455-1503493200-1503496800@canserrat.org
SUMMARY:Presentación: Artista Ian Waelder
DESCRIPTION:\n El artista Ian Waelder ha venido a Can Serrat para hablar de sus proyectos a los artistas residentes. Nos explicó como su interés por la cultura del skate está totalmente vinculado a su obra. Ha sido todo un lujo! Si desea buscar más información de su obra no dude en visitar su web:\n\nhttp://www.ianwaelder.info/\n\n\n\n\n\n
URL:http://canserrat.org/es/event/espanol-presentacion-del-artista-ian-waelder
END:VEVENT
END:VCALENDAR