BEGIN:VCALENDAR
VERSION:2.0
PRODID:-//Can Serrat - ECPv4.9.5//NONSGML v1.0//EN
CALSCALE:GREGORIAN
METHOD:PUBLISH
X-WR-CALNAME:Can Serrat
X-ORIGINAL-URL:http://canserrat.org/es
X-WR-CALDESC:Eventos para Can Serrat
BEGIN:VTIMEZONE
TZID:"UTC"
BEGIN:STANDARD
TZOFFSETFROM:+0000
TZOFFSETTO:+0000
TZNAME:UTC
DTSTART:20170101T000000
END:STANDARD
END:VTIMEZONE
BEGIN:VEVENT
DTSTART;TZID="UTC":20171120T000000
DTEND;TZID="UTC":20171120T133000
DTSTAMP:20260422T104058
CREATED:20171107T135231Z
LAST-MODIFIED:20171115T155028Z
UID:1672-1511136000-1511184600@canserrat.org
SUMMARY:CLUB DE LITERATURA
DESCRIPTION:Encuentro entre los escritores residentes de Can Serrat y cualquier entusiasta o interesado por la literatura en la Biblioteca Municipal del Bruc. Con la colaboración de Carlets Estrada\, Ramón Jorba\, Carla Jorba y Bernat Saus establece un diálogo entre los proyectos de los escritores en residencia y escritores en lengua catalana. \n
URL:http://canserrat.org/es/event/club-de-literatura
LOCATION:Can Serrat\, Masia can serrat s/n \, Barcelona\, 08294 
CATEGORIES:Lecturas
ATTACH;FMTTYPE=image/jpeg:http://canserrat.org/wp-content/uploads/2017/11/22008267_10213557422388420_8521091189856424167_n.jpg
END:VEVENT
END:VCALENDAR