BEGIN:VCALENDAR
VERSION:2.0
PRODID:-//Can Serrat - ECPv4.9.5//NONSGML v1.0//EN
CALSCALE:GREGORIAN
METHOD:PUBLISH
X-WR-CALNAME:Can Serrat
X-ORIGINAL-URL:http://canserrat.org/ca
X-WR-CALDESC:Eventos para Can Serrat
BEGIN:VTIMEZONE
TZID:"UTC"
BEGIN:STANDARD
TZOFFSETFROM:+0000
TZOFFSETTO:+0000
TZNAME:UTC
DTSTART:20170101T000000
END:STANDARD
END:VTIMEZONE
BEGIN:VEVENT
DTSTART;TZID="UTC":20170726T190000
DTEND;TZID="UTC":20170726T200000
DTSTAMP:20260422T235537
CREATED:20170630T120849Z
LAST-MODIFIED:20170712T145055Z
UID:1369-1501095600-1501099200@canserrat.org
SUMMARY:Lectura Publica per les Autores Residents de Can Serrat
DESCRIPTION:Can Serrat\, amb la intenció de connectar amb el seu entorn més proper\, col·labora regularment amb la biblioteca del Bruc. Es proposa als habitants del poble venir a conèixer\, escoltar i debatre durant un diàleg obert entre literatura estrangera i literatura catalana. S’organitza\, a l’espai públic de la biblioteca\, una jornada en la qual els escriptors convidats residència presenten el seu treball recent o en curs en forma de conversa gràcies a tres col·laboradors locals i grans amants de la literatura catalana: Carla Jorba\, Carles Estrada i Ramon Jorba. \nUna primera trobada\, anterior a la presentació pública\, té lloc a Can Serrat entre els col·laboradors i els escriptors convidats. Aquest moment genera un primer intercanvi a partir del qual Carla\, Carles i Ramon busquen enllaços entre els projectes dels escriptors residents i referents de la literatura catalana. \nLes escriptores que llegiran la seva obra són; \nBarbara Victoria Niveyro \nMoira McCavena \nNgozi Oparah \nEna Grozdanic \nAquesta activitat segueix des 2016 gràcies a la generositat i curiositat de Carla\, Carles\, Ramon i Roser Castellet (responsable de la Biblioteca Municipal del Bruc). \n
URL:http://canserrat.org/ca/event/public-reading-by-residents-of-can-serrat
LOCATION:Biblioteca
CATEGORIES:Lectures,Lectura
END:VEVENT
END:VCALENDAR