BEGIN:VCALENDAR
VERSION:2.0
PRODID:-//Can Serrat - ECPv4.9.5//NONSGML v1.0//EN
CALSCALE:GREGORIAN
METHOD:PUBLISH
X-WR-CALNAME:Can Serrat
X-ORIGINAL-URL:http://canserrat.org/ca
X-WR-CALDESC:Eventos para Can Serrat
BEGIN:VTIMEZONE
TZID:"UTC"
BEGIN:STANDARD
TZOFFSETFROM:+0000
TZOFFSETTO:+0000
TZNAME:UTC
DTSTART:20160101T000000
END:STANDARD
END:VTIMEZONE
BEGIN:VEVENT
DTSTART;TZID="UTC":20160713T100000
DTEND;TZID="UTC":20160713T130000
DTSTAMP:20260423T083548
CREATED:20160621T161133Z
LAST-MODIFIED:20160621T164407Z
UID:594-1468404000-1468414800@canserrat.org
SUMMARY:(Español) Presentación: Xavi Acarin (Público)
DESCRIPTION:Ho sentim\, aquesta entrada està disponible només en Espanyol Europeu y Anglès Americà. For the sake of viewer convenience\, the content is shown below in one of the available alternative languages. You may click one of the links to switch the site language to another available language. \nPresentación del trabajo de Xavi Acarin (www.xaviacarin.net)\, comisario independiente catalán afincado en Nueva York y visita a los estudios de los artistas residentes en Can Serrat.\n(Actividad con reserva previa\, si quieres venir envía un correo a canserratart@gmail.com) \n
URL:http://canserrat.org/ca/event/presentation-xavi-acarin-public
CATEGORIES:Presentation
ATTACH;FMTTYPE=image/jpeg:http://canserrat.org/wp-content/uploads/2016/06/xaviacarin.jpg
END:VEVENT
END:VCALENDAR