BEGIN:VCALENDAR
VERSION:2.0
PRODID:-//Can Serrat - ECPv4.9.5//NONSGML v1.0//EN
CALSCALE:GREGORIAN
METHOD:PUBLISH
X-WR-CALNAME:Can Serrat
X-ORIGINAL-URL:http://canserrat.org/ca
X-WR-CALDESC:Eventos para Can Serrat
BEGIN:VTIMEZONE
TZID:"UTC"
BEGIN:STANDARD
TZOFFSETFROM:+0000
TZOFFSETTO:+0000
TZNAME:UTC
DTSTART:20160101T000000
END:STANDARD
END:VTIMEZONE
BEGIN:VEVENT
DTSTART;TZID="UTC":20160506T160000
DTEND;TZID="UTC":20160506T190000
DTSTAMP:20260423T160939
CREATED:20160502T123211Z
LAST-MODIFIED:20160502T123412Z
UID:511-1462550400-1462561200@canserrat.org
SUMMARY:(Español) Presentación de Andrea García Vásquez en L'Estruch (Sabadell) (Público)
DESCRIPTION:Ho sentim\, aquesta entrada està disponible només en Espanyol Europeu y Anglès Americà. For the sake of viewer convenience\, the content is shown below in one of the available alternative languages. You may click one of the links to switch the site language to another available language. \nPresentación de la obra de la artista Andrea García Vásquez (www.andreagarciavasquez.com)\, así como de otros artistas que fueron residentes en el pasado y con los que Can Serrat está trabajando actualmente\, en el Centro de Arte y residencia L’Estruch (Sabadell). Este mismo día presentarán los artistas de la convocatoria de residencia de Blueproject Foundation (Barcelona) y la antigua directora de Gasworks (Londres). \nLas presentaciones se harán en Castellano. \n
URL:http://canserrat.org/ca/event/presentation-of-andrea-garcia-vasquez-at-lestruch-sabadell-public
LOCATION:L’Estruch\, Carrer de Sant Isidre\, 140\, Sabadell\, 08208\, España
CATEGORIES:Presentation
ATTACH;FMTTYPE=image/jpeg:http://canserrat.org/wp-content/uploads/2016/05/MG_0724_670.jpg
END:VEVENT
END:VCALENDAR