BEGIN:VCALENDAR
VERSION:2.0
PRODID:-//Can Serrat - ECPv4.9.5//NONSGML v1.0//EN
CALSCALE:GREGORIAN
METHOD:PUBLISH
X-WR-CALNAME:Can Serrat
X-ORIGINAL-URL:http://canserrat.org/ca
X-WR-CALDESC:Eventos para Can Serrat
BEGIN:VTIMEZONE
TZID:"UTC"
BEGIN:STANDARD
TZOFFSETFROM:+0000
TZOFFSETTO:+0000
TZNAME:UTC
DTSTART:20160101T000000
END:STANDARD
END:VTIMEZONE
BEGIN:VEVENT
DTSTART;TZID="UTC":20160428T080000
DTEND;TZID="UTC":20160428T170000
DTSTAMP:20260423T172415
CREATED:20160428T201845Z
LAST-MODIFIED:20160428T201904Z
UID:506-1461830400-1461862800@canserrat.org
SUMMARY:(Español) Meeting Point (privado)
DESCRIPTION:Ho sentim\, aquesta entrada està disponible només en Espanyol Europeu y Anglès Americà. For the sake of viewer convenience\, the content is shown below in one of the available alternative languages. You may click one of the links to switch the site language to another available language. \nArtistas en residencia presentan su trabajo anterior y su proyecto por la residencia por primera vez en Can Serrat. \nesta vez : \nYAMBE TAM \nMARILIIN VASSENIN \nCHAI MI  \nSARAH MORAN \nSAMREEN SULTAN \nANGELA ROBINSON \nANA MARIA MICU \n
URL:http://canserrat.org/ca/event/meeting-point-private
CATEGORIES:Presentation
ATTACH;FMTTYPE=image/jpeg:http://canserrat.org/wp-content/uploads/2016/04/IMG_20160205_225236.jpg
END:VEVENT
END:VCALENDAR