BEGIN:VCALENDAR
VERSION:2.0
PRODID:-//Can Serrat - ECPv4.9.5//NONSGML v1.0//EN
CALSCALE:GREGORIAN
METHOD:PUBLISH
X-WR-CALNAME:Can Serrat
X-ORIGINAL-URL:http://canserrat.org/ca
X-WR-CALDESC:Eventos para Can Serrat
BEGIN:VTIMEZONE
TZID:"UTC"
BEGIN:STANDARD
TZOFFSETFROM:+0000
TZOFFSETTO:+0000
TZNAME:UTC
DTSTART:20170101T000000
END:STANDARD
END:VTIMEZONE
BEGIN:VEVENT
DTSTART;TZID="UTC":20171124T120000
DTEND;TZID="UTC":20171124T130000
DTSTAMP:20260422T091218
CREATED:20171108T141458Z
LAST-MODIFIED:20171108T141458Z
UID:1676-1511524800-1511528400@canserrat.org
SUMMARY:(Español) Duncan Gibbs _ presentation of recent projects
DESCRIPTION:Ho sentim\, aquesta entrada està disponible només en Anglès Americà. For the sake of viewer convenience\, the content is shown below in the alternative language. You may click the link to switch the active language. \nDuncan’s studio work is open to accident and unconscious collaboration from yeast\, bacteria and other organisms. Whipped cream poured over a marble off-cut sits waiting for activation from the bacteria on a dog’s tongue. Pink sludge erupts out of a tumescent crust as yeast begins to act like a geological force. \nBy creating the conditions in which art works might make themselves and by building spaces that are open to collaboration with other artists\, the authorship and autonomy of Duncan’s work becomes blurred. \nDuncan Gibbs is a London based visual artist and one of the three fully granted artist of 2016. He was in residency at Can Serrat from February to March 2017. \nhttp://www.duncangibbs.co.uk/ \n
URL:http://canserrat.org/ca/event/duncan-gibbs-_-presentation-of-recent-projects
LOCATION:Can Serrat\, Masia can serrat s/n \, Barcelona\, 08294 
ATTACH;FMTTYPE=image/jpeg:http://canserrat.org/wp-content/uploads/2017/02/P1160272.jpg
ORGANIZER;CN="Can%20Serrat":MAILTO:canserratart@gmail.com
END:VEVENT
END:VCALENDAR