BEGIN:VCALENDAR
VERSION:2.0
PRODID:-//Can Serrat - ECPv4.9.5//NONSGML v1.0//EN
CALSCALE:GREGORIAN
METHOD:PUBLISH
X-WR-CALNAME:Can Serrat
X-ORIGINAL-URL:http://canserrat.org/ca
X-WR-CALDESC:Eventos para Can Serrat
BEGIN:VTIMEZONE
TZID:"UTC"
BEGIN:STANDARD
TZOFFSETFROM:+0000
TZOFFSETTO:+0000
TZNAME:UTC
DTSTART:20160101T000000
END:STANDARD
END:VTIMEZONE
BEGIN:VEVENT
DTSTART;TZID="UTC":20160827T203000
DTEND;TZID="UTC":20160827T230000
DTSTAMP:20260423T070954
CREATED:20160801T125744Z
LAST-MODIFIED:20160801T203716Z
UID:628-1472329800-1472338800@canserrat.org
SUMMARY:(Español) Concierto: Dofí Malalt + L'Hereu Escampa
DESCRIPTION:Ho sentim\, aquesta entrada està disponible només en Espanyol Europeu y Anglès Americà. For the sake of viewer convenience\, the content is shown below in one of the available alternative languages. You may click one of the links to switch the site language to another available language. \nEl próximo 27 de Agosto a las 20:30h en Can Serrat tendremos en concierto al indescriptible Dofí Malalt seguido por la fuerza frenética de L’Hereu Escampa. Buena música en un entorno idílico: la mejor manera de pasar la noche de sábado de verano profundo. ¡Además\, la buena comida está asegurada por Stomako! \nPodemos estar hablando del secreto más valioso y bien guardado de esta casa. Dofí Malalt es una de esas flores raras y bellas que crecen sin que te des cuenta en cualquier maceta de casa. El cassette Engrunes que hace tiempo publicó\, ya se ha digerido. Ahora\, Quim se está preparando para agrupar más canciones y hacer un buen disco. De todas formas\, el Pete Doherty leridano continua en activo. Conciertos esporádicos y divertidos que mezclan temas propios con versiones de sus ídolos. El cantautor misterioso va haciendo su camino.\nhttps://www.youtube.com/watch?v=xYxppwRzieo \nL’Hereu Escampa tiene la calidad de los grupos grandes\, recuerda a todas las cosas buenas\, pero siempre es fiel a si mismo. Letras que dicen “la vida eterna que passa entre els nostres dits” (la vida eterna pasa entre nuestros dedos)\, “l’olor de l’estiu als teus cabells” (el olor de verano en tu pelo)\, “la unió dels colors il·lumina els prats” (la unión de los colores ilumina los prados)\, “faig un glop-fa molt fred-agafo aire-pel que vindrà” (tomo un trago-hace mucho frío-cojo aire-por lo que vendrá) o “tot el que tinc ja no em serveix de res” (todo lo que tengo ya no me sirve para nada). Exaltación\, entusiasmo\, emoción. Cambios de ritmo y forma. Combustión rápida que puede producir una explosión. Energía\, montañas de energía. L’Hereu Escampa es el grupo que me hubiera gustado tener. Y algo más\, una linea de algo insólito que no de puede medir ni contar. Primero se presenta de una forma claramente reconocible i un segundo después\, internamente y en el contexto de la melodía\, la actividad y el sentimiento que genera es más fuerte e intenso. Es lo que me gusta de la música. No se como se llama. Pero se qué hace. Y dónde te lleva. Siempre es lo mismo. Enloquece el anima de felicidad. El desarrollo de una acción que en nuestra casa empezó el 001 de Zeidun y se había interrumpido. Revolution Summer en la Plana de Vic. La más bella tradición. (Jordi Sanglas\, 2013)\nhttps://lhereuescampa.bandcamp.com/ \n
URL:http://canserrat.org/ca/event/concert-dofi-malalt-lhereu-escampa
LOCATION:Can Serrat\, Masia can serrat s/n \, Barcelona\, 08294 
CATEGORIES:Concert
ATTACH;FMTTYPE=image/jpeg:http://canserrat.org/wp-content/uploads/2016/08/hereu_960.jpg
END:VEVENT
END:VCALENDAR