BEGIN:VCALENDAR
VERSION:2.0
PRODID:-//Can Serrat - ECPv4.9.5//NONSGML v1.0//EN
CALSCALE:GREGORIAN
METHOD:PUBLISH
X-WR-CALNAME:Can Serrat
X-ORIGINAL-URL:http://canserrat.org/ca
X-WR-CALDESC:Eventos para Can Serrat
BEGIN:VTIMEZONE
TZID:"UTC"
BEGIN:STANDARD
TZOFFSETFROM:+0000
TZOFFSETTO:+0000
TZNAME:UTC
DTSTART:20170101T000000
END:STANDARD
END:VTIMEZONE
BEGIN:VEVENT
DTSTART;TZID="UTC":20171220T190000
DTEND;TZID="UTC":20171220T210000
DTSTAMP:20260422T155227
CREATED:20171207T152448Z
LAST-MODIFIED:20171219T165308Z
UID:1756-1513796400-1513803600@canserrat.org
SUMMARY:LITERATURE “CLUB”
DESCRIPTION:Trobada entre els escriptors residents a Can Serrat i qualsevol entusiasta o interessat per la literatura a la Biblioteca Municipal del Bruc. Amb la col•laboració de Carlets Estrada\, Ramón Jorba\, Carla Jorba i Bernat Saus s’estableix un diàleg entre els projectes dels escriptors en residència i escriptors en llengua catalana. Aquest mes llegirem textos d’Alexandra Peard i Pete Sheldon. \n
URL:http://canserrat.org/ca/event/catala-literature-club
LOCATION:Can Serrat\, Masia can serrat s/n \, Barcelona\, 08294 
CATEGORIES:Lectures
ATTACH;FMTTYPE=image/jpeg:http://canserrat.org/wp-content/uploads/2017/12/23897173_10159558576530484_1221780655_o.jpg
END:VEVENT
END:VCALENDAR