BEGIN:VCALENDAR
VERSION:2.0
PRODID:-//Can Serrat - ECPv4.9.5//NONSGML v1.0//EN
CALSCALE:GREGORIAN
METHOD:PUBLISH
X-WR-CALNAME:Can Serrat
X-ORIGINAL-URL:http://canserrat.org/ca
X-WR-CALDESC:Eventos para Can Serrat
BEGIN:VTIMEZONE
TZID:"UTC"
BEGIN:STANDARD
TZOFFSETFROM:+0000
TZOFFSETTO:+0000
TZNAME:UTC
DTSTART:20160101T000000
END:STANDARD
END:VTIMEZONE
BEGIN:VEVENT
DTSTART;TZID="UTC":20161028T180000
DTEND;TZID="UTC":20161030T230000
DTSTAMP:20260423T042747
CREATED:20160923T135734Z
LAST-MODIFIED:20170529T153706Z
UID:816-1477677600-1477868400@canserrat.org
SUMMARY:Festival d'Arte i Música BRUCSTOCK
DESCRIPTION:El Festival d’Art i Música BRUCSTOCK és un festival d’art i música experimental que explora el format en directe i es proposa ser una plataforma per a artistes internacionals. Brucstock té lloc en un parc natural al poble del Bruc\, al peu de la muntanya de Montserrat. El festival se situa a la Residència Internacional d’Art Can Serrat. Hi participaran músics i artistes internacionals i locals. \n
URL:http://canserrat.org/ca/event/brucstock-art-and-music-festival
LOCATION:Can Serrat\, Masia can serrat s/n \, Barcelona\, 08294 
CATEGORIES:Concert
ATTACH;FMTTYPE=image/jpeg:http://canserrat.org/wp-content/uploads/2016/09/ad219f143729c021bdbeb4de77249bdd_original.jpg
END:VEVENT
END:VCALENDAR